Workbook
Name Base: [1]Plan2!#REF!
Name Parcela_7_12___Atualização_da_base_de_dados_de_indústrias_do_SIGA._Aditivo_SAP_6565_2011_02._Nº_no_Protheus_49.: #REF!
Name Parcela_7_12___Atualização_da_base_de_dados_de_indústrias_do_SIGA._Aditivo_SAP_6565_2011_02._Nº_no_Protheus_49.: #REF!
Name Parcela_7_12___Atualização_da_base_de_dados_de_indústrias_do_SIGA._Aditivo_SAP_6565_2011_02._Nº_no_Protheus_49.: #REF!
Name Parcela_7_12___Atualização_da_base_de_dados_de_indústrias_do_SIGA._Aditivo_SAP_6565_2011_02._Nº_no_Protheus_49.: #REF!
Name Parcela_7_12___Atualização_da_base_de_dados_de_indústrias_do_SIGA._Aditivo_SAP_6565_2011_02._Nº_no_Protheus_49.: #REF!
Name Parcela_7_12___Atualização_da_base_de_dados_de_indústrias_do_SIGA._Aditivo_SAP_6565_2011_02._Nº_no_Protheus_49.: #REF!
Name Parcela_7_12___Atualização_da_base_de_dados_de_indústrias_do_SIGA._Aditivo_SAP_6565_2011_02._Nº_no_Protheus_49.: #REF!

Sheet Instruções
B6: INSTRUÇÕES DE PREENCHIMENTO
B8: ─ Todos os tópicos relacionados ao orçamento do projeto proposto deverão ser apresentados por meio desta pasta de trabalho.
B9: ─ As planilhas a seguir referem-se às ações elegíveis de: (I) Capacitações, oficinas, palestras, workshops e seminários; (II) Consultorias e mentorias; (III) Estudos e pesquisas; (IV) Visitas técnicas e missões comerciais, de conhecimento ou benchmarking; (V) Feiras, eventos e encontros de negócios; (VI) Gestão, estruturação, monitoramento e pesquisa de resultados.
B10: ─ O campo "Fonte de Recursos" refere-se à origem dos recursos que serão empenhados para pagamento das despesas.
B11: ─ O montante de recursos referente à contrapartida financeira será preenchido automaticamente, conforme o valor total previsto para cada linha orçamentária.
B12: ─ O proponente deverá ajustar os valores referentes ao financiamento por subsídio, respeitando limites e limitações impostas pelo edital vigente e demais instrumentos correlatos.
B13: ─ Uma vez concluído o preenchimento do orçamento, o proponente deverá copiar os valores apresentados no Orçamento-Resumo por ação e colá-los na tabela constante no Bloco 5 da proposta.
B15: NOTAS TÉCNICAS
B17: Limites Orçamentários e Fontes de Recursos | C17: ─ Não há definição de valor limite para projetos no âmbito deste edital. Porém, os projetos apenas poderão ser aprovados até o limite de recursos disponível quando de sua apreciação pela Coordenação do Empreender.
B18: Execução Técnica e Financeira | C18: ─ Em relação ao orçamento necessário para a implementação das ações/atividades demandadas pelas empresas, a entidade proponente deve observar os seguintes requisitos:
C19: ─ Deve contemplar apenas as rubricas elegíveis aqui apresentadas, conforme condições vigentes da chamada.
C20: ─ Deve considerar, no máximo, 50% de subsídio (apoio financeiro do Empreender).
C21: ─ Deve apresentar, no mínimo, 50% de contrapartida, exclusivamente financeira.
C23: Observações: ─ As propostas terão seus orçamentos avaliados e valores que se distanciem da média praticada pelo mercado poderão ser questionados pelo Comitê Gestor. ─ No caso específico de missões empresariais e participação em feiras, o percentual deve ser de 40% para o subsídio e 60% de contrapartida, exclusivamente financeira.

Sheet (I) Capacitações
A1: ATENÇÃO: Planilha para preenchimento exclusivo para ações do tipo Capacitações, Oficinas, Palestras, Workshops e Seminários. Detalhar cada atividade individualmente, de acordo o plano de ações da proposta.
E2: DESCRIÇÃO DA DESPESA | I2: FONTE DE RECURSOS
A6: Atividades | D6: Despesas Elegíveis | E6: Unidade de Medida | F6: Quantidade | G6: Valor Unitário | H6: Valor Total | I6: Subsídio | J6: Contrapartida Econômica | K6: Contrapartida Financeira
A8: A1 | B8: Descrição da atividade | D8: 1.1 Inscrição para capacitações, oficinas, workshops, palestras ou seminários. | E8: ='Orçamento-Projeto'!$D$8 -> Número de inscrições | H8: =F8*G8 -> 0 | K8: =IF(H8>0,(H8-SUM(I8,J8)),"")
D9: 1.2 Contratação de instrutor/palestrante. | E9: ='Orçamento-Projeto'!$D$9 -> Horas de trabalho | H9: =F9*G9 -> 0 | J9: 0 | K9: =IF(H9>0,(H9-SUM(I9,J9)),"")
D10: 1.3 Preparação e impressão de materiais educativos. | E10: ='Orçamento-Projeto'!$D$10 -> Unidade | H10: =F10*G10 -> 0 | K10: =IF(H10>0,(H10-SUM(I10,J10)),"")
D11: 1.4 Custos relacionados à divulgação da ação (produção de material promocional, serviços gráficos de reprodução e veiculação em rádio, TV e mídias sociais). | E11: ='Orçamento-Projeto'!$D$11 -> Unidade | H11: =F11*G11 -> 0 | K11: =IF(H11>0,(H11-SUM(I11,J11)),"")
D12: 1.5 Custos de deslocamento para instrutores/palestrantes e participantes (custo de combustível, locação de veículos, passagens áreas ou rodoviárias, táxis ou transportes alternativos). | E12: ='Orçamento-Projeto'!$D$12 -> Unidade | H12: =F12*G12 -> 0 | K12: =IF(H12>0,(H12-SUM(I12,J12)),"")
D13: 1.6 Hospedagem e ajuda de custo para instrutores/palestrantes. | E13: ='Orçamento-Projeto'!$D$13 -> Diárias | H13: =F13*G13 -> 0 | K13: =IF(H13>0,(H13-SUM(I13,J13)),"")
D14: 1.7 Locação de espaço. | E14: ='Orçamento-Projeto'!$D$14 -> Diárias | H14: =F14*G14 -> 0 | K14: =IF(H14>0,(H14-SUM(I14,J14)),"")
D15: 1.8 Locação de equipamentos audiovisuais. | E15: ='Orçamento-Projeto'!$D$15 -> Diárias | H15: =F15*G15 -> 0 | K15: =IF(H15>0,(H15-SUM(I15,J15)),"")
B16: Custo da ação = | C16: =SUM(H8:H16) -> 0 | D16: 1.9 Coffee Break e catering | E16: ='Orçamento-Projeto'!$D$16 -> Unidade | H16: =F16*G16 -> 0 | K16: =IF(H16>0,(H16-SUM(I16,J16)),"")
A17: A2 | B17: Descrição da atividade | D17: 1.1 Inscrição para capacitações, oficinas, workshops, palestras ou seminários. | E17: ='Orçamento-Projeto'!$D$8 -> Número de inscrições | H17: =F17*G17 -> 0 | K17: =IF(H17>0,(H17-SUM(I17,J17)),"")
D18: 1.2 Contratação de instrutor/palestrante. | E18: ='Orçamento-Projeto'!$D$9 -> Horas de trabalho | H18: =F18*G18 -> 0 | K18: =IF(H18>0,(H18-SUM(I18,J18)),"")
D19: 1.3 Preparação e impressão de materiais educativos. | E19: ='Orçamento-Projeto'!$D$10 -> Unidade | H19: =F19*G19 -> 0 | K19: =IF(H19>0,(H19-SUM(I19,J19)),"")
D20: 1.4 Custos relacionados à divulgação da ação (produção de material promocional, serviços gráficos de reprodução e veiculação em rádio, TV e mídias sociais). | E20: ='Orçamento-Projeto'!$D$11 -> Unidade | H20: =F20*G20 -> 0 | K20: =IF(H20>0,(H20-SUM(I20,J20)),"")
D21: 1.5 Custos de deslocamento para instrutores/palestrantes e participantes (custo de combustível, locação de veículos, passagens áreas ou rodoviárias, táxis ou transportes alternativos). | E21: ='Orçamento-Projeto'!$D$12 -> Unidade | H21: =F21*G21 -> 0 | K21: =IF(H21>0,(H21-SUM(I21,J21)),"")
D22: 1.6 Hospedagem e ajuda de custo para instrutores/palestrantes. | E22: ='Orçamento-Projeto'!$D$13 -> Diárias | H22: =F22*G22 -> 0 | K22: =IF(H22>0,(H22-SUM(I22,J22)),"")
D23: 1.7 Locação de espaço. | E23: ='Orçamento-Projeto'!$D$14 -> Diárias | H23: =F23*G23 -> 0 | K23: =IF(H23>0,(H23-SUM(I23,J23)),"")
D24: 1.8 Locação de equipamentos audiovisuais. | E24: ='Orçamento-Projeto'!$D$15 -> Diárias | H24: =F24*G24 -> 0 | K24: =IF(H24>0,(H24-SUM(I24,J24)),"")
B25: Custo da ação = | C25: =SUM(H17:H25) -> 0 | D25: 1.9 Coffee Break e catering | E25: ='Orçamento-Projeto'!$D$16 -> Unidade | H25: =F25*G25 -> 0 | K25: =IF(H25>0,(H25-SUM(I25,J25)),"")
A26: A3 | B26: Descrição da atividade | D26: 1.1 Inscrição para capacitações, oficinas, workshops, palestras ou seminários. | E26: ='Orçamento-Projeto'!$D$8 -> Número de inscrições | H26: =F26*G26 -> 0 | K26: =IF(H26>0,(H26-SUM(I26,J26)),"")
D27: 1.2 Contratação de instrutor/palestrante. | E27: ='Orçamento-Projeto'!$D$9 -> Horas de trabalho | H27: =F27*G27 -> 0 | K27: =IF(H27>0,(H27-SUM(I27,J27)),"")
D28: 1.3 Preparação e impressão de materiais educativos. | E28: ='Orçamento-Projeto'!$D$10 -> Unidade | H28: =F28*G28 -> 0 | K28: =IF(H28>0,(H28-SUM(I28,J28)),"")
D29: 1.4 Custos relacionados à divulgação da ação (produção de material promocional, serviços gráficos de reprodução e veiculação em rádio, TV e mídias sociais). | E29: ='Orçamento-Projeto'!$D$11 -> Unidade | H29: =F29*G29 -> 0 | K29: =IF(H29>0,(H29-SUM(I29,J29)),"")
D30: 1.5 Custos de deslocamento para instrutores/palestrantes e participantes (custo de combustível, locação de veículos, passagens áreas ou rodoviárias, táxis ou transportes alternativos). | E30: ='Orçamento-Projeto'!$D$12 -> Unidade | H30: =F30*G30 -> 0 | K30: =IF(H30>0,(H30-SUM(I30,J30)),"")
D31: 1.6 Hospedagem e ajuda de custo para instrutores/palestrantes. | E31: ='Orçamento-Projeto'!$D$13 -> Diárias | H31: =F31*G31 -> 0 | K31: =IF(H31>0,(H31-SUM(I31,J31)),"")
D32: 1.7 Locação de espaço. | E32: ='Orçamento-Projeto'!$D$14 -> Diárias | H32: =F32*G32 -> 0 | K32: =IF(H32>0,(H32-SUM(I32,J32)),"")
D33: 1.8 Locação de equipamentos audiovisuais. | E33: ='Orçamento-Projeto'!$D$15 -> Diárias | H33: =F33*G33 -> 0 | K33: =IF(H33>0,(H33-SUM(I33,J33)),"")
B34: Custo da ação = | C34: =SUM(H26:H34) -> 0 | D34: 1.9 Coffee Break e catering | E34: ='Orçamento-Projeto'!$D$16 -> Unidade | H34: =F34*G34 -> 0 | K34: =IF(H34>0,(H34-SUM(I34,J34)),"")
A35: A4 | B35: Descrição da atividade | D35: 1.1 Inscrição para capacitações, oficinas, workshops, palestras ou seminários. | E35: ='Orçamento-Projeto'!$D$8 -> Número de inscrições | H35: =F35*G35 -> 0 | K35: =IF(H35>0,(H35-SUM(I35,J35)),"")
D36: 1.2 Contratação de instrutor/palestrante. | E36: ='Orçamento-Projeto'!$D$9 -> Horas de trabalho | H36: =F36*G36 -> 0 | K36: =IF(H36>0,(H36-SUM(I36,J36)),"")
D37: 1.3 Preparação e impressão de materiais educativos. | E37: ='Orçamento-Projeto'!$D$10 -> Unidade | H37: =F37*G37 -> 0 | K37: =IF(H37>0,(H37-SUM(I37,J37)),"")
D38: 1.4 Custos relacionados à divulgação da ação (produção de material promocional, serviços gráficos de reprodução e veiculação em rádio, TV e mídias sociais). | E38: ='Orçamento-Projeto'!$D$11 -> Unidade | H38: =F38*G38 -> 0 | K38: =IF(H38>0,(H38-SUM(I38,J38)),"")
D39: 1.5 Custos de deslocamento para instrutores/palestrantes e participantes (custo de combustível, locação de veículos, passagens áreas ou rodoviárias, táxis ou transportes alternativos). | E39: ='Orçamento-Projeto'!$D$12 -> Unidade | H39: =F39*G39 -> 0 | K39: =IF(H39>0,(H39-SUM(I39,J39)),"")
D40: 1.6 Hospedagem e ajuda de custo para instrutores/palestrantes. | E40: ='Orçamento-Projeto'!$D$13 -> Diárias | H40: =F40*G40 -> 0 | K40: =IF(H40>0,(H40-SUM(I40,J40)),"")
D41: 1.7 Locação de espaço. | E41: ='Orçamento-Projeto'!$D$14 -> Diárias | H41: =F41*G41 -> 0 | K41: =IF(H41>0,(H41-SUM(I41,J41)),"")
D42: 1.8 Locação de equipamentos audiovisuais. | E42: ='Orçamento-Projeto'!$D$15 -> Diárias | H42: =F42*G42 -> 0 | K42: =IF(H42>0,(H42-SUM(I42,J42)),"")
B43: Custo da ação = | C43: =SUM(H35:H43) -> 0 | D43: 1.9 Coffee Break e catering | E43: ='Orçamento-Projeto'!$D$16 -> Unidade | H43: =F43*G43 -> 0 | K43: =IF(H43>0,(H43-SUM(I43,J43)),"")
A44: A5 | B44: Descrição da atividade | D44: 1.1 Inscrição para capacitações, oficinas, workshops, palestras ou seminários. | E44: ='Orçamento-Projeto'!$D$8 -> Número de inscrições | H44: =F44*G44 -> 0 | K44: =IF(H44>0,(H44-SUM(I44,J44)),"")
...

Sheet (II) Consultorias
A1: ATENÇÃO: Planilha para preenchimento exclusivo de ações do tipo Consultorias. Detalhar cada atividade individualmente, de acordo o plano de ações da proposta.
E2: DESCRIÇÃO DA DESPESA | I2: FONTE DE RECURSOS
A6: Atividades | D6: Despesas Elegíveis | E6: Unidade de Medida | F6: Quantidade | G6: Valor Unitário | H6: Valor Total | I6: Subsídio | J6: Contrapartida Econômica | K6: Contrapartida Financeira
A8: B1 | B8: Descrição da atividade | D8: 2.1 Contratação de consultoria/mentoria. | E8: ='Orçamento-Projeto'!$D$17 -> Horas de trabalho | H8: =F8*G8 -> 0 | K8: =IF(H8>0,(H8-SUM(I8,J8)),"")
D9: 2.2 Preparação e impressão de materiais. | E9: ='Orçamento-Projeto'!$D$18 -> Unidade | H9: =F9*G9 -> 0 | K9: =IF(H9>0,(H9-SUM(I9,J9)),"")
D10: 2.3 Custos relacionados à divulgação da ação (produção de material promocional, serviços gráficos de reprodução e veiculação em rádio, TV e mídias sociais). | E10: ='Orçamento-Projeto'!$D$19 -> Unidade | H10: =F10*G10 -> 0 | K10: =IF(H10>0,(H10-SUM(I10,J10)),"")
D11: 2.4 Custos de deslocamento para consultores/mentores (custo de combustível, locação de veículos, passagens aéreas ou rodoviárias, táxis ou transportes alternativos). | E11: ='Orçamento-Projeto'!$D$20 -> Unidade | H11: =F11*G11 -> 0 | K11: =IF(H11>0,(H11-SUM(I11,J11)),"")
B12: Custo da ação = | C12: =SUM(H8:H12) -> 0 | D12: 2.5 Hospedagem e ajuda de custo para consultores/mentores. | E12: ='Orçamento-Projeto'!$D$21 -> Diárias | H12: =F12*G12 -> 0 | K12: =IF(H12>0,(H12-SUM(I12,J12)),"")
A13: B2 | B13: Descrição da atividade | D13: 2.1 Contratação de consultoria/mentoria. | E13: ='Orçamento-Projeto'!$D$17 -> Horas de trabalho | H13: =F13*G13 -> 0 | K13: =IF(H13>0,(H13-SUM(I13,J13)),"")
D14: 2.2 Preparação e impressão de materiais. | E14: ='Orçamento-Projeto'!$D$18 -> Unidade | H14: =F14*G14 -> 0 | K14: =IF(H14>0,(H14-SUM(I14,J14)),"")
D15: 2.3 Custos relacionados à divulgação da ação (produção de material promocional, serviços gráficos de reprodução e veiculação em rádio, TV e mídias sociais). | E15: ='Orçamento-Projeto'!$D$19 -> Unidade | H15: =F15*G15 -> 0 | K15: =IF(H15>0,(H15-SUM(I15,J15)),"")
D16: 2.4 Custos de deslocamento para consultores/mentores (custo de combustível, locação de veículos, passagens aéreas ou rodoviárias, táxis ou transportes alternativos). | E16: ='Orçamento-Projeto'!$D$20 -> Unidade | H16: =F16*G16 -> 0 | K16: =IF(H16>0,(H16-SUM(I16,J16)),"")
B17: Custo da ação = | C17: =SUM(H13:H17) -> 0 | D17: 2.5 Hospedagem e ajuda de custo para consultores/mentores. | E17: ='Orçamento-Projeto'!$D$21 -> Diárias | H17: =F17*G17 -> 0 | K17: =IF(H17>0,(H17-SUM(I17,J17)),"")
A18: B3 | B18: Descrição da atividade | D18: 2.1 Contratação de consultoria/mentoria. | E18: ='Orçamento-Projeto'!$D$17 -> Horas de trabalho | H18: =F18*G18 -> 0 | K18: =IF(H18>0,(H18-SUM(I18,J18)),"")
D19: 2.2 Preparação e impressão de materiais. | E19: ='Orçamento-Projeto'!$D$18 -> Unidade | H19: =F19*G19 -> 0 | K19: =IF(H19>0,(H19-SUM(I19,J19)),"")
D20: 2.3 Custos relacionados à divulgação da ação (produção de material promocional, serviços gráficos de reprodução e veiculação em rádio, TV e mídias sociais). | E20: ='Orçamento-Projeto'!$D$19 -> Unidade | H20: =F20*G20 -> 0 | K20: =IF(H20>0,(H20-SUM(I20,J20)),"")
D21: 2.4 Custos de deslocamento para consultores/mentores (custo de combustível, locação de veículos, passagens aéreas ou rodoviárias, táxis ou transportes alternativos). | E21: ='Orçamento-Projeto'!$D$20 -> Unidade | H21: =F21*G21 -> 0 | K21: =IF(H21>0,(H21-SUM(I21,J21)),"")
B22: Custo da ação = | C22: =SUM(H18:H22) -> 0 | D22: 2.5 Hospedagem e ajuda de custo para consultores/mentores. | E22: ='Orçamento-Projeto'!$D$21 -> Diárias | H22: =F22*G22 -> 0 | K22: =IF(H22>0,(H22-SUM(I22,J22)),"")
A23: B4 | B23: Descrição da atividade | D23: 2.1 Contratação de consultoria/mentoria. | E23: ='Orçamento-Projeto'!$D$17 -> Horas de trabalho | H23: =F23*G23 -> 0 | K23: =IF(H23>0,(H23-SUM(I23,J23)),"")
D24: 2.2 Preparação e impressão de materiais. | E24: ='Orçamento-Projeto'!$D$18 -> Unidade | H24: =F24*G24 -> 0 | K24: =IF(H24>0,(H24-SUM(I24,J24)),"")
D25: 2.3 Custos relacionados à divulgação da ação (produção de material promocional, serviços gráficos de reprodução e veiculação em rádio, TV e mídias sociais). | E25: ='Orçamento-Projeto'!$D$19 -> Unidade | H25: =F25*G25 -> 0 | K25: =IF(H25>0,(H25-SUM(I25,J25)),"")
D26: 2.4 Custos de deslocamento para consultores/mentores (custo de combustível, locação de veículos, passagens aéreas ou rodoviárias, táxis ou transportes alternativos). | E26: ='Orçamento-Projeto'!$D$20 -> Unidade | H26: =F26*G26 -> 0 | K26: =IF(H26>0,(H26-SUM(I26,J26)),"")
B27: Custo da ação = | C27: =SUM(H23:H27) -> 0 | D27: 2.5 Hospedagem e ajuda de custo para consultores/mentores. | E27: ='Orçamento-Projeto'!$D$21 -> Diárias | H27: =F27*G27 -> 0 | K27: =IF(H27>0,(H27-SUM(I27,J27)),"")
A28: B5 | B28: Descrição da atividade | D28: 2.1 Contratação de consultoria/mentoria. | E28: ='Orçamento-Projeto'!$D$17 -> Horas de trabalho | H28: =F28*G28 -> 0 | K28: =IF(H28>0,(H28-SUM(I28,J28)),"")
D29: 2.2 Preparação e impressão de materiais. | E29: ='Orçamento-Projeto'!$D$18 -> Unidade | H29: =F29*G29 -> 0 | K29: =IF(H29>0,(H29-SUM(I29,J29)),"")
D30: 2.3 Custos relacionados à divulgação da ação (produção de material promocional, serviços gráficos de reprodução e veiculação em rádio, TV e mídias sociais). | E30: ='Orçamento-Projeto'!$D$19 -> Unidade | H30: =F30*G30 -> 0 | K30: =IF(H30>0,(H30-SUM(I30,J30)),"")
D31: 2.4 Custos de deslocamento para consultores/mentores (custo de combustível, locação de veículos, passagens aéreas ou rodoviárias, táxis ou transportes alternativos). | E31: ='Orçamento-Projeto'!$D$20 -> Unidade | H31: =F31*G31 -> 0 | K31: =IF(H31>0,(H31-SUM(I31,J31)),"")
B32: Custo da ação = | C32: =SUM(H28:H32) -> 0 | D32: 2.5 Hospedagem e ajuda de custo para consultores/mentores. | E32: ='Orçamento-Projeto'!$D$21 -> Diárias | H32: =F32*G32 -> 0 | K32: =IF(H32>0,(H32-SUM(I32,J32)),"")
A33: B6 | B33: Descrição da atividade | D33: 2.1 Contratação de consultoria/mentoria. | E33: ='Orçamento-Projeto'!$D$17 -> Horas de trabalho | H33: =F33*G33 -> 0 | K33: =IF(H33>0,(H33-SUM(I33,J33)),"")
D34: 2.2 Preparação e impressão de materiais. | E34: ='Orçamento-Projeto'!$D$18 -> Unidade | H34: =F34*G34 -> 0 | K34: =IF(H34>0,(H34-SUM(I34,J34)),"")
D35: 2.3 Custos relacionados à divulgação da ação (produção de material promocional, serviços gráficos de reprodução e veiculação em rádio, TV e mídias sociais). | E35: ='Orçamento-Projeto'!$D$19 -> Unidade | H35: =F35*G35 -> 0 | K35: =IF(H35>0,(H35-SUM(I35,J35)),"")
D36: 2.4 Custos de deslocamento para consultores/mentores (custo de combustível, locação de veículos, passagens aéreas ou rodoviárias, táxis ou transportes alternativos). | E36: ='Orçamento-Projeto'!$D$20 -> Unidade | H36: =F36*G36 -> 0 | K36: =IF(H36>0,(H36-SUM(I36,J36)),"")
B37: Custo da ação = | C37: =SUM(H33:H37) -> 0 | D37: 2.5 Hospedagem e ajuda de custo para consultores/mentores. | E37: ='Orçamento-Projeto'!$D$21 -> Diárias | H37: =F37*G37 -> 0 | K37: =IF(H37>0,(H37-SUM(I37,J37)),"")
A38: B7 | B38: Descrição da atividade | D38: 2.1 Contratação de consultoria/mentoria. | E38: ='Orçamento-Projeto'!$D$17 -> Horas de trabalho | H38: =F38*G38 -> 0 | K38: =IF(H38>0,(H38-SUM(I38,J38)),"")
D39: 2.2 Preparação e impressão de materiais. | E39: ='Orçamento-Projeto'!$D$18 -> Unidade | H39: =F39*G39 -> 0 | K39: =IF(H39>0,(H39-SUM(I39,J39)),"")
D40: 2.3 Custos relacionados à divulgação da ação (produção de material promocional, serviços gráficos de reprodução e veiculação em rádio, TV e mídias sociais). | E40: ='Orçamento-Projeto'!$D$19 -> Unidade | H40: =F40*G40 -> 0 | K40: =IF(H40>0,(H40-SUM(I40,J40)),"")
D41: 2.4 Custos de deslocamento para consultores/mentores (custo de combustível, locação de veículos, passagens aéreas ou rodoviárias, táxis ou transportes alternativos). | E41: ='Orçamento-Projeto'!$D$20 -> Unidade | H41: =F41*G41 -> 0 | K41: =IF(H41>0,(H41-SUM(I41,J41)),"")
B42: Custo da ação = | C42: =SUM(H38:H42) -> 0 | D42: 2.5 Hospedagem e ajuda de custo para consultores/mentores. | E42: ='Orçamento-Projeto'!$D$21 -> Diárias | H42: =F42*G42 -> 0 | K42: =IF(H42>0,(H42-SUM(I42,J42)),"")
A43: B8 | B43: Descrição da atividade | D43: 2.1 Contratação de consultoria/mentoria. | E43: ='Orçamento-Projeto'!$D$17 -> Horas de trabalho | H43: =F43*G43 -> 0 | K43: =IF(H43>0,(H43-SUM(I43,J43)),"")
D44: 2.2 Preparação e impressão de materiais. | E44: ='Orçamento-Projeto'!$D$18 -> Unidade | H44: =F44*G44 -> 0 | K44: =IF(H44>0,(H44-SUM(I44,J44)),"")
...

Sheet (III) Estudos
A1: ATENÇÃO: Planilha para preenchimento exclusivo para ações do tipo Estudos e Pesquisas. Detalhar cada atividade individualmente, de acordo o plano de ações da proposta.
E2: DESCRIÇÃO DA DESPESA | I2: FONTE DE RECURSOS
A6: Atividades | D6: Despesas Elegíveis | E6: Unidade de Medida | F6: Quantidade | G6: Valor Unitário | H6: Valor Total | I6: Subsídio | J6: Contrapartida Econômica | K6: Contrapartida Financeira
A8: C1 | B8: Descrição da Atividade | D8: 3.1 Contratação de estudos/pesquisas (consultorias especializadas). | E8: ='Orçamento-Projeto'!$D$22 -> Unidade | H8: =F8*G8 -> 0 | K8: =IF(H8>0,(H8-SUM(I8,J8)),"")
D9: 3.2 Custos relacionados à divulgação da ação (produção de material promocional, serviços gráficos de reprodução e veiculação em rádio, TV e mídias sociais). | E9: ='Orçamento-Projeto'!$D$23 -> Unidade | H9: =F9*G9 -> 0 | K9: =IF(H9>0,(H9-SUM(I9,J9)),"")
B10: Custo da ação = | C10: =SUM(H8:H10) -> 0 | D10: 3.3 Custos relacionados à divulgação dos estudos e pesquisas desenvolvidos às empresas beneficiadas (locação de espaço e estrutura audiovisual e/ou estrutura para divulgação em ambiente digital). | E10: ='Orçamento-Projeto'!$D$24 -> Unidade | H10: =F10*G10 -> 0 | K10: =IF(H10>0,(H10-SUM(I10,J10)),"")
A11: C2 | B11: Descrição da Atividade | D11: 3.1 Contratação de estudos/pesquisas (consultorias especializadas). | E11: ='Orçamento-Projeto'!$D$22 -> Unidade | H11: =F11*G11 -> 0 | K11: =IF(H11>0,(H11-SUM(I11,J11)),"")
D12: 3.2 Custos relacionados à divulgação da ação (produção de material promocional, serviços gráficos de reprodução e veiculação em rádio, TV e mídias sociais). | E12: ='Orçamento-Projeto'!$D$23 -> Unidade | H12: =F12*G12 -> 0 | K12: =IF(H12>0,(H12-SUM(I12,J12)),"")
B13: Custo da ação = | C13: =SUM(H11:H13) -> 0 | D13: 3.3 Custos relacionados à divulgação dos estudos e pesquisas desenvolvidos às empresas beneficiadas (locação de espaço e estrutura audiovisual e/ou estrutura para divulgação em ambiente digital). | E13: ='Orçamento-Projeto'!$D$24 -> Unidade | H13: =F13*G13 -> 0 | K13: =IF(H13>0,(H13-SUM(I13,J13)),"")
A14: C3 | B14: Descrição da Atividade | D14: 3.1 Contratação de estudos/pesquisas (consultorias especializadas). | E14: ='Orçamento-Projeto'!$D$22 -> Unidade | H14: =F14*G14 -> 0 | K14: =IF(H14>0,(H14-SUM(I14,J14)),"")
D15: 3.2 Custos relacionados à divulgação da ação (produção de material promocional, serviços gráficos de reprodução e veiculação em rádio, TV e mídias sociais). | E15: ='Orçamento-Projeto'!$D$23 -> Unidade | H15: =F15*G15 -> 0 | K15: =IF(H15>0,(H15-SUM(I15,J15)),"")
B16: Custo da ação = | C16: =SUM(H14:H16) -> 0 | D16: 3.3 Custos relacionados à divulgação dos estudos e pesquisas desenvolvidos às empresas beneficiadas (locação de espaço e estrutura audiovisual e/ou estrutura para divulgação em ambiente digital). | E16: ='Orçamento-Projeto'!$D$24 -> Unidade | H16: =F16*G16 -> 0 | K16: =IF(H16>0,(H16-SUM(I16,J16)),"")
A17: C4 | B17: Descrição da Atividade | D17: 3.1 Contratação de estudos/pesquisas (consultorias especializadas). | E17: ='Orçamento-Projeto'!$D$22 -> Unidade | H17: =F17*G17 -> 0 | K17: =IF(H17>0,(H17-SUM(I17,J17)),"")
D18: 3.2 Custos relacionados à divulgação da ação (produção de material promocional, serviços gráficos de reprodução e veiculação em rádio, TV e mídias sociais). | E18: ='Orçamento-Projeto'!$D$23 -> Unidade | H18: =F18*G18 -> 0 | K18: =IF(H18>0,(H18-SUM(I18,J18)),"")
B19: Custo da ação = | C19: =SUM(H17:H19) -> 0 | D19: 3.3 Custos relacionados à divulgação dos estudos e pesquisas desenvolvidos às empresas beneficiadas (locação de espaço e estrutura audiovisual e/ou estrutura para divulgação em ambiente digital). | E19: ='Orçamento-Projeto'!$D$24 -> Unidade | H19: =F19*G19 -> 0 | K19: =IF(H19>0,(H19-SUM(I19,J19)),"")
A20: C5 | B20: Descrição da Atividade | D20: 3.1 Contratação de estudos/pesquisas (consultorias especializadas). | E20: ='Orçamento-Projeto'!$D$22 -> Unidade | H20: =F20*G20 -> 0 | K20: =IF(H20>0,(H20-SUM(I20,J20)),"")
D21: 3.2 Custos relacionados à divulgação da ação (produção de material promocional, serviços gráficos de reprodução e veiculação em rádio, TV e mídias sociais). | E21: ='Orçamento-Projeto'!$D$23 -> Unidade | H21: =F21*G21 -> 0 | K21: =IF(H21>0,(H21-SUM(I21,J21)),"")
B22: Custo da ação = | C22: =SUM(H20:H22) -> 0 | D22: 3.3 Custos relacionados à divulgação dos estudos e pesquisas desenvolvidos às empresas beneficiadas (locação de espaço e estrutura audiovisual e/ou estrutura para divulgação em ambiente digital). | E22: ='Orçamento-Projeto'!$D$24 -> Unidade | H22: =F22*G22 -> 0 | K22: =IF(H22>0,(H22-SUM(I22,J22)),"")
A23: C6 | B23: Descrição da Atividade | D23: 3.1 Contratação de estudos/pesquisas (consultorias especializadas). | E23: ='Orçamento-Projeto'!$D$22 -> Unidade | H23: =F23*G23 -> 0 | K23: =IF(H23>0,(H23-SUM(I23,J23)),"")
D24: 3.2 Custos relacionados à divulgação da ação (produção de material promocional, serviços gráficos de reprodução e veiculação em rádio, TV e mídias sociais). | E24: ='Orçamento-Projeto'!$D$23 -> Unidade | H24: =F24*G24 -> 0 | K24: =IF(H24>0,(H24-SUM(I24,J24)),"")
B25: Custo da ação = | C25: =SUM(H23:H25) -> 0 | D25: 3.3 Custos relacionados à divulgação dos estudos e pesquisas desenvolvidos às empresas beneficiadas (locação de espaço e estrutura audiovisual e/ou estrutura para divulgação em ambiente digital). | E25: ='Orçamento-Projeto'!$D$24 -> Unidade | H25: =F25*G25 -> 0 | K25: =IF(H25>0,(H25-SUM(I25,J25)),"")
A26: C7 | B26: Descrição da Atividade | D26: 3.1 Contratação de estudos/pesquisas (consultorias especializadas). | E26: ='Orçamento-Projeto'!$D$22 -> Unidade | H26: =F26*G26 -> 0 | K26: =IF(H26>0,(H26-SUM(I26,J26)),"")
D27: 3.2 Custos relacionados à divulgação da ação (produção de material promocional, serviços gráficos de reprodução e veiculação em rádio, TV e mídias sociais). | E27: ='Orçamento-Projeto'!$D$23 -> Unidade | H27: =F27*G27 -> 0 | K27: =IF(H27>0,(H27-SUM(I27,J27)),"")
B28: Custo da ação = | C28: =SUM(H26:H28) -> 0 | D28: 3.3 Custos relacionados à divulgação dos estudos e pesquisas desenvolvidos às empresas beneficiadas (locação de espaço e estrutura audiovisual e/ou estrutura para divulgação em ambiente digital). | E28: ='Orçamento-Projeto'!$D$24 -> Unidade | H28: =F28*G28 -> 0 | K28: =IF(H28>0,(H28-SUM(I28,J28)),"")
A29: C8 | B29: Descrição da Atividade | D29: 3.1 Contratação de estudos/pesquisas (consultorias especializadas). | E29: ='Orçamento-Projeto'!$D$22 -> Unidade | H29: =F29*G29 -> 0 | K29: =IF(H29>0,(H29-SUM(I29,J29)),"")
D30: 3.2 Custos relacionados à divulgação da ação (produção de material promocional, serviços gráficos de reprodução e veiculação em rádio, TV e mídias sociais). | E30: ='Orçamento-Projeto'!$D$23 -> Unidade | H30: =F30*G30 -> 0 | K30: =IF(H30>0,(H30-SUM(I30,J30)),"")
B31: Custo da ação = | C31: =SUM(H29:H31) -> 0 | D31: 3.3 Custos relacionados à divulgação dos estudos e pesquisas desenvolvidos às empresas beneficiadas (locação de espaço e estrutura audiovisual e/ou estrutura para divulgação em ambiente digital). | E31: ='Orçamento-Projeto'!$D$24 -> Unidade | H31: =F31*G31 -> 0 | K31: =IF(H31>0,(H31-SUM(I31,J31)),"")

Sheet (IV) Visitas e Missões
A1: ATENÇÃO: Planilha para preenchimento exclusivo para ações do tipo Visitas Técnicas e Missões de Conhecimento ou Benchmarking. Detalhar cada atividade individualmente, de acordo o plano de ações da proposta.
E2: DESCRIÇÃO DA DESPESA | I2: FONTE DE RECURSOS
A6: Atividades | D6: Despesas Elegíveis | E6: Unidade de Medida | F6: Quantidade | G6: Valor Unitário | H6: Valor Total | I6: Subsídio | J6: Contrapartida Econômica | K6: Contrapartida Financeira
A8: D1 | B8: Descrição da Atividade | D8: 4.1 Consultoria de apoio para a preparação da missão. | E8: ='Orçamento-Projeto'!$D$25 -> Horas de trabalho | H8: =F8*G8 -> 0 | K8: =IF(H8>0,(H8-SUM(I8,J8)),"")
D9: 4.2 Diagramação e impressão de catálogo/guia do participante. | E9: ='Orçamento-Projeto'!$D$26 -> Unidade | H9: =F9*G9 -> 0 | K9: =IF(H9>0,(H9-SUM(I9,J9)),"")
D10: 4.3 Custos relacionados à divulgação da ação (produção de material promocional, serviços gráficos de reprodução e veiculação em rádio, TV e mídias sociais). | E10: ='Orçamento-Projeto'!$D$27 -> Unidade | H10: =F10*G10 -> 0 | K10: =IF(H10>0,(H10-SUM(I10,J10)),"")
D11: 4.4 Custos de deslocamento para corpo técnico e empresários participantes (custo de combustível, locação de veículos, passagens áreas ou rodoviárias, táxis ou transportes alternativos). | E11: ='Orçamento-Projeto'!$D$28 -> Unidade | H11: =F11*G11 -> 0 | K11: =IF(H11>0,(H11-SUM(I11,J11)),"")
B12: Custo da ação = | C12: =SUM(H8:H12) -> 0 | D12: 4.5 Hospedagem e ajuda de custo para corpo técnico e empresários. | E12: ='Orçamento-Projeto'!$D$29 -> Diárias | H12: =F12*G12 -> 0 | K12: =IF(H12>0,(H12-SUM(I12,J12)),"")
A13: D2 | B13: Descrição da Atividade | D13: 4.1 Consultoria de apoio para a preparação da missão. | E13: ='Orçamento-Projeto'!$D$25 -> Horas de trabalho | H13: =F13*G13 -> 0 | K13: =IF(H13>0,(H13-SUM(I13,J13)),"")
D14: 4.2 Diagramação e impressão de catálogo/guia do participante. | E14: ='Orçamento-Projeto'!$D$26 -> Unidade | H14: =F14*G14 -> 0 | K14: =IF(H14>0,(H14-SUM(I14,J14)),"")
D15: 4.3 Custos relacionados à divulgação da ação (produção de material promocional, serviços gráficos de reprodução e veiculação em rádio, TV e mídias sociais). | E15: ='Orçamento-Projeto'!$D$27 -> Unidade | H15: =F15*G15 -> 0 | K15: =IF(H15>0,(H15-SUM(I15,J15)),"")
D16: 4.4 Custos de deslocamento para corpo técnico e empresários participantes (custo de combustível, locação de veículos, passagens áreas ou rodoviárias, táxis ou transportes alternativos). | E16: ='Orçamento-Projeto'!$D$28 -> Unidade | H16: =F16*G16 -> 0 | K16: =IF(H16>0,(H16-SUM(I16,J16)),"")
B17: Custo da ação = | C17: =SUM(H13:H17) -> 0 | D17: 4.5 Hospedagem e ajuda de custo para corpo técnico e empresários. | E17: ='Orçamento-Projeto'!$D$29 -> Diárias | H17: =F17*G17 -> 0 | K17: =IF(H17>0,(H17-SUM(I17,J17)),"")
A18: D3 | B18: Descrição da Atividade | D18: 4.1 Consultoria de apoio para a preparação da missão. | E18: ='Orçamento-Projeto'!$D$25 -> Horas de trabalho | H18: =F18*G18 -> 0 | K18: =IF(H18>0,(H18-SUM(I18,J18)),"")
D19: 4.2 Diagramação e impressão de catálogo/guia do participante. | E19: ='Orçamento-Projeto'!$D$26 -> Unidade | H19: =F19*G19 -> 0 | K19: =IF(H19>0,(H19-SUM(I19,J19)),"")
D20: 4.3 Custos relacionados à divulgação da ação (produção de material promocional, serviços gráficos de reprodução e veiculação em rádio, TV e mídias sociais). | E20: ='Orçamento-Projeto'!$D$27 -> Unidade | H20: =F20*G20 -> 0 | K20: =IF(H20>0,(H20-SUM(I20,J20)),"")
D21: 4.4 Custos de deslocamento para corpo técnico e empresários participantes (custo de combustível, locação de veículos, passagens áreas ou rodoviárias, táxis ou transportes alternativos). | E21: ='Orçamento-Projeto'!$D$28 -> Unidade | H21: =F21*G21 -> 0 | K21: =IF(H21>0,(H21-SUM(I21,J21)),"")
B22: Custo da ação = | C22: =SUM(H18:H22) -> 0 | D22: 4.5 Hospedagem e ajuda de custo para corpo técnico e empresários. | E22: ='Orçamento-Projeto'!$D$29 -> Diárias | H22: =F22*G22 -> 0 | K22: =IF(H22>0,(H22-SUM(I22,J22)),"")
A23: D4 | B23: Descrição da Atividade | D23: 4.1 Consultoria de apoio para a preparação da missão. | E23: ='Orçamento-Projeto'!$D$25 -> Horas de trabalho | H23: =F23*G23 -> 0 | K23: =IF(H23>0,(H23-SUM(I23,J23)),"")
D24: 4.2 Diagramação e impressão de catálogo/guia do participante. | E24: ='Orçamento-Projeto'!$D$26 -> Unidade | H24: =F24*G24 -> 0 | K24: =IF(H24>0,(H24-SUM(I24,J24)),"")
D25: 4.3 Custos relacionados à divulgação da ação (produção de material promocional, serviços gráficos de reprodução e veiculação em rádio, TV e mídias sociais). | E25: ='Orçamento-Projeto'!$D$27 -> Unidade | H25: =F25*G25 -> 0 | K25: =IF(H25>0,(H25-SUM(I25,J25)),"")
D26: 4.4 Custos de deslocamento para corpo técnico e empresários participantes (custo de combustível, locação de veículos, passagens áreas ou rodoviárias, táxis ou transportes alternativos). | E26: ='Orçamento-Projeto'!$D$28 -> Unidade | H26: =F26*G26 -> 0 | K26: =IF(H26>0,(H26-SUM(I26,J26)),"")
B27: Custo da ação = | C27: =SUM(H23:H27) -> 0 | D27: 4.5 Hospedagem e ajuda de custo para corpo técnico e empresários. | E27: ='Orçamento-Projeto'!$D$29 -> Diárias | H27: =F27*G27 -> 0 | K27: =IF(H27>0,(H27-SUM(I27,J27)),"")
A28: D5 | B28: Descrição da Atividade | D28: 4.1 Consultoria de apoio para a preparação da missão. | E28: ='Orçamento-Projeto'!$D$25 -> Horas de trabalho | H28: =F28*G28 -> 0 | K28: =IF(H28>0,(H28-SUM(I28,J28)),"")
D29: 4.2 Diagramação e impressão de catálogo/guia do participante. | E29: ='Orçamento-Projeto'!$D$26 -> Unidade | H29: =F29*G29 -> 0 | K29: =IF(H29>0,(H29-SUM(I29,J29)),"")
D30: 4.3 Custos relacionados à divulgação da ação (produção de material promocional, serviços gráficos de reprodução e veiculação em rádio, TV e mídias sociais). | E30: ='Orçamento-Projeto'!$D$27 -> Unidade | H30: =F30*G30 -> 0 | K30: =IF(H30>0,(H30-SUM(I30,J30)),"")
D31: 4.4 Custos de deslocamento para corpo técnico e empresários participantes (custo de combustível, locação de veículos, passagens áreas ou rodoviárias, táxis ou transportes alternativos). | E31: ='Orçamento-Projeto'!$D$28 -> Unidade | H31: =F31*G31 -> 0 | K31: =IF(H31>0,(H31-SUM(I31,J31)),"")
B32: Custo da ação = | C32: =SUM(H28:H32) -> 0 | D32: 4.5 Hospedagem e ajuda de custo para corpo técnico e empresários. | E32: ='Orçamento-Projeto'!$D$29 -> Diárias | H32: =F32*G32 -> 0 | K32: =IF(H32>0,(H32-SUM(I32,J32)),"")
A33: D6 | B33: Descrição da Atividade | D33: 4.1 Consultoria de apoio para a preparação da missão. | E33: ='Orçamento-Projeto'!$D$25 -> Horas de trabalho | H33: =F33*G33 -> 0 | K33: =IF(H33>0,(H33-SUM(I33,J33)),"")
D34: 4.2 Diagramação e impressão de catálogo/guia do participante. | E34: ='Orçamento-Projeto'!$D$26 -> Unidade | H34: =F34*G34 -> 0 | K34: =IF(H34>0,(H34-SUM(I34,J34)),"")
D35: 4.3 Custos relacionados à divulgação da ação (produção de material promocional, serviços gráficos de reprodução e veiculação em rádio, TV e mídias sociais). | E35: ='Orçamento-Projeto'!$D$27 -> Unidade | H35: =F35*G35 -> 0 | K35: =IF(H35>0,(H35-SUM(I35,J35)),"")
D36: 4.4 Custos de deslocamento para corpo técnico e empresários participantes (custo de combustível, locação de veículos, passagens áreas ou rodoviárias, táxis ou transportes alternativos). | E36: ='Orçamento-Projeto'!$D$28 -> Unidade | H36: =F36*G36 -> 0 | K36: =IF(H36>0,(H36-SUM(I36,J36)),"")
B37: Custo da ação = | C37: =SUM(H33:H37) -> 0 | D37: 4.5 Hospedagem e ajuda de custo para corpo técnico e empresários. | E37: ='Orçamento-Projeto'!$D$29 -> Diárias | H37: =F37*G37 -> 0 | K37: =IF(H37>0,(H37-SUM(I37,J37)),"")
A38: D7 | B38: Descrição da Atividade | D38: 4.1 Consultoria de apoio para a preparação da missão. | E38: ='Orçamento-Projeto'!$D$25 -> Horas de trabalho | H38: =F38*G38 -> 0 | K38: =IF(H38>0,(H38-SUM(I38,J38)),"")
D39: 4.2 Diagramação e impressão de catálogo/guia do participante. | E39: ='Orçamento-Projeto'!$D$26 -> Unidade | H39: =F39*G39 -> 0 | K39: =IF(H39>0,(H39-SUM(I39,J39)),"")
D40: 4.3 Custos relacionados à divulgação da ação (produção de material promocional, serviços gráficos de reprodução e veiculação em rádio, TV e mídias sociais). | E40: ='Orçamento-Projeto'!$D$27 -> Unidade | H40: =F40*G40 -> 0 | K40: =IF(H40>0,(H40-SUM(I40,J40)),"")
D41: 4.4 Custos de deslocamento para corpo técnico e empresários participantes (custo de combustível, locação de veículos, passagens áreas ou rodoviárias, táxis ou transportes alternativos). | E41: ='Orçamento-Projeto'!$D$28 -> Unidade | H41: =F41*G41 -> 0 | K41: =IF(H41>0,(H41-SUM(I41,J41)),"")
B42: Custo da ação = | C42: =SUM(H38:H42) -> 0 | D42: 4.5 Hospedagem e ajuda de custo para corpo técnico e empresários. | E42: ='Orçamento-Projeto'!$D$29 -> Diárias | H42: =F42*G42 -> 0 | K42: =IF(H42>0,(H42-SUM(I42,J42)),"")
A43: D8 | B43: Descrição da Atividade | D43: 4.1 Consultoria de apoio para a preparação da missão. | E43: ='Orçamento-Projeto'!$D$25 -> Horas de trabalho | H43: =F43*G43 -> 0 | K43: =IF(H43>0,(H43-SUM(I43,J43)),"")
D44: 4.2 Diagramação e impressão de catálogo/guia do participante. | E44: ='Orçamento-Projeto'!$D$26 -> Unidade | H44: =F44*G44 -> 0 | K44: =IF(H44>0,(H44-SUM(I44,J44)),"")
...

Sheet (V) Feiras e Eventos
A1: ATENÇÃO: Planilha para preenchimento exclusivo para ações do tipo Feiras, Eventos e Encontros de Negócios. Detalhar cada atividade individualmente, de acordo o plano de ações da proposta.
E2: DESCRIÇÃO DA DESPESA | I2: FONTE DE RECURSOS
A6: Atividades | D6: Despesas Elegíveis | E6: Unidade de Medida | F6: Quantidade | G6: Valor Unitário | H6: Valor Total | I6: Subsídio | J6: Contrapartida Econômica | K6: Contrapartida Financeira
A8: E1 | B8: Descrição da Atividade | D8: 5.1 Contratação de consultoria para a preparação prévia das empresas. | E8: ='Orçamento-Projeto'!$D$30 -> Horas de trabalho | H8: =F8*G8 -> 0 | K8: =IF(H8>0,(H8-SUM(I8,J8)),"")
D9: 5.2 Serviços especializados de matchmaking. | E9: ='Orçamento-Projeto'!$D$31 -> Horas de trabalho | H9: =F9*G9 -> 0 | K9: =IF(H9>0,(H9-SUM(I9,J9)),"")
D10: 5.3 Diagramação e impressão de catálogo/guia do participante. | E10: ='Orçamento-Projeto'!$D$32 -> Unidade | H10: =F10*G10 -> 0 | K10: =IF(H10>0,(H10-SUM(I10,J10)),"")
D11: 5.4 Custos relacionados à divulgação da ação (produção de material promocional, serviços gráficos de reprodução e veiculação em rádio, TV e mídias sociais). | E11: ='Orçamento-Projeto'!$D$33 -> Unidade | H11: =F11*G11 -> 0 | K11: =IF(H11>0,(H11-SUM(I11,J11)),"")
D12: 5.5 Custos de deslocamento para corpo técnico e empresários participantes (custo de combustível, locação de veículos, passagens áreas ou rodoviárias, táxis ou transportes alternativos). | E12: ='Orçamento-Projeto'!$D$34 -> Unidade | H12: =F12*G12 -> 0 | K12: =IF(H12>0,(H12-SUM(I12,J12)),"")
D13: 5.6 Hospedagem e ajuda de custo para corpo técnico. | E13: ='Orçamento-Projeto'!$D$35 -> Diárias | H13: =F13*G13 -> 0 | K13: =IF(H13>0,(H13-SUM(I13,J13)),"")
D14: 5.7 Entradas/ingressos para feiras, eventos ou encontros de negócios. | E14: ='Orçamento-Projeto'!$D$36 -> Horas de trabalho | H14: =F14*G14 -> 0 | K14: =IF(H14>0,(H14-SUM(I14,J14)),"")
D15: 5.8 Locação de espaço em feira ou evento (estande). | E15: ='Orçamento-Projeto'!$D$37 -> Diárias | H15: =F15*G15 -> 0 | K15: =IF(H15>0,(H15-SUM(I15,J15)),"")
D16: 5.9 Locação de espaço para realização da feira, evento ou encontro de negócio. | E16: ='Orçamento-Projeto'!$D$38 -> Unidade | H16: =F16*G16 -> 0 | K16: =IF(H16>0,(H16-SUM(I16,J16)),"")
D17: 5.10 Contratação de serviços necessários à realização de feiras, eventos ou encontros de negócios (seguranças, recepcionistas, socorristas etc.). | E17: ='Orçamento-Projeto'!$D$39 -> Unidade | H17: =F17*G17 -> 0 | K17: =IF(H17>0,(H17-SUM(I17,J17)),"")
D18: 5.11 Coffee Break/Catering. | E18: ='Orçamento-Projeto'!$D$40 -> Unidade | H18: =F18*G18 -> 0 | K18: =IF(H18>0,(H18-SUM(I18,J18)),"")
B19: Custo da ação = | C19: =SUM(H8:H19) -> 0 | D19: 5.12 Locação de equipamentos audiovisuais. | E19: ='Orçamento-Projeto'!$D$41 -> Unidade | H19: =F19*G19 -> 0 | K19: =IF(H19>0,(H19-SUM(I19,J19)),"")
A20: E2 | B20: Descrição da Atividade | D20: 5.1 Contratação de consultoria para a preparação prévia das empresas. | E20: ='Orçamento-Projeto'!$D$30 -> Horas de trabalho | H20: =F20*G20 -> 0 | K20: =IF(H20>0,(H20-SUM(I20,J20)),"")
D21: 5.2 Serviços especializados de matchmaking. | E21: ='Orçamento-Projeto'!$D$31 -> Horas de trabalho | H21: =F21*G21 -> 0 | K21: =IF(H21>0,(H21-SUM(I21,J21)),"")
D22: 5.3 Diagramação e impressão de catálogo/guia do participante. | E22: ='Orçamento-Projeto'!$D$32 -> Unidade | H22: =F22*G22 -> 0 | K22: =IF(H22>0,(H22-SUM(I22,J22)),"")
D23: 5.4 Custos relacionados à divulgação da ação (produção de material promocional, serviços gráficos de reprodução e veiculação em rádio, TV e mídias sociais). | E23: ='Orçamento-Projeto'!$D$33 -> Unidade | H23: =F23*G23 -> 0 | K23: =IF(H23>0,(H23-SUM(I23,J23)),"")
D24: 5.5 Custos de deslocamento para corpo técnico e empresários participantes (custo de combustível, locação de veículos, passagens áreas ou rodoviárias, táxis ou transportes alternativos). | E24: ='Orçamento-Projeto'!$D$34 -> Unidade | H24: =F24*G24 -> 0 | K24: =IF(H24>0,(H24-SUM(I24,J24)),"")
D25: 5.6 Hospedagem e ajuda de custo para corpo técnico. | E25: ='Orçamento-Projeto'!$D$35 -> Diárias | H25: =F25*G25 -> 0 | K25: =IF(H25>0,(H25-SUM(I25,J25)),"")
D26: 5.7 Entradas/ingressos para feiras, eventos ou encontros de negócios. | E26: ='Orçamento-Projeto'!$D$36 -> Horas de trabalho | H26: =F26*G26 -> 0 | K26: =IF(H26>0,(H26-SUM(I26,J26)),"")
D27: 5.8 Locação de espaço em feira ou evento (estande). | E27: ='Orçamento-Projeto'!$D$37 -> Diárias | H27: =F27*G27 -> 0 | K27: =IF(H27>0,(H27-SUM(I27,J27)),"")
D28: 5.9 Locação de espaço para realização da feira, evento ou encontro de negócio. | E28: ='Orçamento-Projeto'!$D$38 -> Unidade | H28: =F28*G28 -> 0 | K28: =IF(H28>0,(H28-SUM(I28,J28)),"")
D29: 5.10 Contratação de serviços necessários à realização de feiras, eventos ou encontros de negócios (seguranças, recepcionistas, socorristas etc.). | E29: ='Orçamento-Projeto'!$D$39 -> Unidade | H29: =F29*G29 -> 0 | K29: =IF(H29>0,(H29-SUM(I29,J29)),"")
D30: 5.11 Coffee Break/Catering. | E30: ='Orçamento-Projeto'!$D$40 -> Unidade | H30: =F30*G30 -> 0 | K30: =IF(H30>0,(H30-SUM(I30,J30)),"")
B31: Custo da ação = | C31: =SUM(H20:H31) -> 0 | D31: 5.12 Locação de equipamentos audiovisuais. | E31: ='Orçamento-Projeto'!$D$41 -> Unidade | H31: =F31*G31 -> 0 | K31: =IF(H31>0,(H31-SUM(I31,J31)),"")
A32: E3 | B32: Descrição da Atividade | D32: 5.1 Contratação de consultoria para a preparação prévia das empresas. | E32: ='Orçamento-Projeto'!$D$30 -> Horas de trabalho | H32: =F32*G32 -> 0 | K32: =IF(H32>0,(H32-SUM(I32,J32)),"")
D33: 5.2 Serviços especializados de matchmaking. | E33: ='Orçamento-Projeto'!$D$31 -> Horas de trabalho | H33: =F33*G33 -> 0 | K33: =IF(H33>0,(H33-SUM(I33,J33)),"")
D34: 5.3 Diagramação e impressão de catálogo/guia do participante. | E34: ='Orçamento-Projeto'!$D$32 -> Unidade | H34: =F34*G34 -> 0 | K34: =IF(H34>0,(H34-SUM(I34,J34)),"")
D35: 5.4 Custos relacionados à divulgação da ação (produção de material promocional, serviços gráficos de reprodução e veiculação em rádio, TV e mídias sociais). | E35: ='Orçamento-Projeto'!$D$33 -> Unidade | H35: =F35*G35 -> 0 | K35: =IF(H35>0,(H35-SUM(I35,J35)),"")
D36: 5.5 Custos de deslocamento para corpo técnico e empresários participantes (custo de combustível, locação de veículos, passagens áreas ou rodoviárias, táxis ou transportes alternativos). | E36: ='Orçamento-Projeto'!$D$34 -> Unidade | H36: =F36*G36 -> 0 | K36: =IF(H36>0,(H36-SUM(I36,J36)),"")
D37: 5.6 Hospedagem e ajuda de custo para corpo técnico. | E37: ='Orçamento-Projeto'!$D$35 -> Diárias | H37: =F37*G37 -> 0 | K37: =IF(H37>0,(H37-SUM(I37,J37)),"")
D38: 5.7 Entradas/ingressos para feiras, eventos ou encontros de negócios. | E38: ='Orçamento-Projeto'!$D$36 -> Horas de trabalho | H38: =F38*G38 -> 0 | K38: =IF(H38>0,(H38-SUM(I38,J38)),"")
D39: 5.8 Locação de espaço em feira ou evento (estande). | E39: ='Orçamento-Projeto'!$D$37 -> Diárias | H39: =F39*G39 -> 0 | K39: =IF(H39>0,(H39-SUM(I39,J39)),"")
D40: 5.9 Locação de espaço para realização da feira, evento ou encontro de negócio. | E40: ='Orçamento-Projeto'!$D$38 -> Unidade | H40: =F40*G40 -> 0 | K40: =IF(H40>0,(H40-SUM(I40,J40)),"")
D41: 5.10 Contratação de serviços necessários à realização de feiras, eventos ou encontros de negócios (seguranças, recepcionistas, socorristas etc.). | E41: ='Orçamento-Projeto'!$D$39 -> Unidade | H41: =F41*G41 -> 0 | K41: =IF(H41>0,(H41-SUM(I41,J41)),"")
D42: 5.11 Coffee Break/Catering. | E42: ='Orçamento-Projeto'!$D$40 -> Unidade | H42: =F42*G42 -> 0 | K42: =IF(H42>0,(H42-SUM(I42,J42)),"")
B43: Custo da ação = | C43: =SUM(H32:H43) -> 0 | D43: 5.12 Locação de equipamentos audiovisuais. | E43: ='Orçamento-Projeto'!$D$41 -> Unidade | H43: =F43*G43 -> 0 | K43: =IF(H43>0,(H43-SUM(I43,J43)),"")
A44: E4 | B44: Descrição da Atividade | D44: 5.1 Contratação de consultoria para a preparação prévia das empresas. | E44: ='Orçamento-Projeto'!$D$30 -> Horas de trabalho | H44: =F44*G44 -> 0 | K44: =IF(H44>0,(H44-SUM(I44,J44)),"")
...

Sheet (VI) Gestão
A1: ATENÇÃO: Planilha para preenchimento exclusivo para ações do tipo Gestão, Estruturação, Monitoramento e Pesquisa de Resultados. Detalhar cada atividade individualmente, de acordo o plano de ações da proposta.
E2: DESCRIÇÃO DA DESPESA | I2: FONTE DE RECURSOS
A6: Atividades | D6: Despesas Elegíveis | E6: Unidade de Medida | F6: Quantidade | G6: Valor Unitário | H6: Valor Total | I6: Subsídio | J6: Contrapartida Econômica | K6: Contrapartida Financeira
A8: F1 | B8: Gestão, estruturação, monitoramento e pesquisa de resultados | D8: 6.1 Despesas Bancárias | E8: ='Orçamento-Projeto'!$D$42 -> Unidade | H8: =F8*G8 -> 0 | K8: =IF(H8>0,(H8-SUM(I8,J8)),"")
D9: 6.2 Horas técnicas da equipe da entidade proponente | E9: ='Orçamento-Projeto'!$D$43 -> Horas de trabalho | H9: =F9*G9 -> 0 | K9: =IF(H9>0,(H9-SUM(I9,J9)),"")
D10: 6.3 Contratação de consultoria (monitoramento e pesquisa de resultados) | E10: ='Orçamento-Projeto'!$D$44 -> Horas de trabalho | H10: =F10*G10 -> 0 | K10: =IF(H10>0,(H10-SUM(I10,J10)),"")
D11: 6.4 Despesas relacionadas a viagens e deslocamentos da equipe da entidade proponente para acompanhamento e/ou realização de ações do projeto | E11: ='Orçamento-Projeto'!$D$45 -> Unidade | H11: =F11*G11 -> 0 | K11: =IF(H11>0,(H11-SUM(I11,J11)),"")
B12: Custo da ação = | C12: =SUM(H8:H12) -> 0 | D12: 6.5 Despesas relacionadas à manutenção e funcionamento de escritórios e infraestrutura de apoio à execução do projeto | E12: ='Orçamento-Projeto'!$D$45 -> Unidade | H12: =F12*G12 -> 0 | K12: =IF(H12>0,(H12-SUM(I12,J12)),"")

Sheet Orçamento-Resumo-Ação
A2: ATENÇÃO: Planilha com preenchimento automático. Não é necessário definir manualmente nenhum dos campos apresentados. | H2: PARTICIPAÇÃO %
C3: FONTE DE RECURSOS
H4: Subsídio | I4: Contrapartida Econômica | J4: Contrapartida Financeira | K4: Total
H6: =VLOOKUP("Total Geral",$A$14:$F$42,3,)/VLOOKUP("Total Geral",$A$14:$F$42,6,) -> #DIV/0! | I6: =VLOOKUP("Total Geral",$A$14:$F$42,4,)/VLOOKUP("Total Geral",$A$14:$F$42,6,) -> #DIV/0! | J6: =VLOOKUP("Total Geral",$A$14:$F$42,5,)/VLOOKUP("Total Geral",$A$14:$F$42,6,) -> #DIV/0! | K6: =VLOOKUP("Total Geral",$A$14:$F$42,6,)/VLOOKUP("Total Geral",$A$14:$F$42,6,) -> #DIV/0!
A7: AÇÕES - DESPESAS AGREGADAS | C7: Subsídio | D7: Contrapartida Econômica | E7: Contrapartida Financeira | F7: Total
A12: AÇÃO ID | B12: DESCRIÇÃO | C12: Soma de Subsídio | D12: Soma de Contrapartida Econômica | E12: Soma de Contrapartida Financeira | F12: Soma de VALOR TOTAL
C13: 0 | D13: 0 | E13: 0 | F13: 0
A14: F1 | B14: Gestão, estruturação, monitoramento e pesquisa de resultados | C14: 0 | D14: 0 | E14: 0 | F14: 0 | H14: Atenção: ao concluir a elaboração do orçamento do projeto, atualize a tabela dinâmica para que todas as alterações realizadas sejam apresentadas corretamente. Clique com o botão direito do mouse em qualquer local na descrição das ações e selecione a opção "Atualizar".
A15: Total Geral | C15: 0 | D15: 0 | E15: 0 | F15: 0

Sheet Orçamento-Resumo
B1: ATENÇÃO: Planilha com preenchimento automático. Não é necessário definir manualmente nenhum dos campos apresentados. | I1: SIM
E2: FONTE DE RECURSOS | I2: NÃO
B6: AÇÕES ELEGÍVEIS - DESPESAS AGREGADAS | D6: Total | E6: Subsídio | F6: Contrapartida Econômica | G6: Contrapartida Financeira
B8: RECURSOS POR TIPO DE AÇÃO | C8: (I) Capacitações | D8: =SUM('Orçamento-Projeto'!G8:G16) -> 0 | E8: =SUM('Orçamento-Projeto'!H8:H16) -> 0 | F8: =SUM('Orçamento-Projeto'!I8:I16) -> 0 | G8: =SUM('Orçamento-Projeto'!J8:J16) -> 0
C9: (II) Consultorias | D9: =SUM('Orçamento-Projeto'!G17:G21) -> 0 | E9: =SUM('Orçamento-Projeto'!H17:H21) -> 0 | F9: =SUM('Orçamento-Projeto'!I17:I21) -> 0 | G9: =SUM('Orçamento-Projeto'!J17:J21) -> 0
C10: (III) Estudos | D10: =SUM('Orçamento-Projeto'!G22:G24) -> 0 | E10: =SUM('Orçamento-Projeto'!H22:H24) -> 0 | F10: =SUM('Orçamento-Projeto'!I22:I24) -> 0 | G10: =SUM('Orçamento-Projeto'!J22:J24) -> 0
C11: (IV) Visitas e Missões | D11: =SUM('Orçamento-Projeto'!G25:G29) -> 0 | E11: =SUM('Orçamento-Projeto'!H25:H29) -> 0 | F11: =SUM('Orçamento-Projeto'!I25:I29) -> 0 | G11: =SUM('Orçamento-Projeto'!J25:J29) -> 0
C12: (V) Feiras e Eventos | D12: =SUM('Orçamento-Projeto'!G30:G41) -> 0 | E12: =SUM('Orçamento-Projeto'!H30:H41) -> 0 | F12: =SUM('Orçamento-Projeto'!I30:I41) -> 0 | G12: =SUM('Orçamento-Projeto'!J30:J41) -> 0
C13: (VI) Gestão | D13: =SUM('Orçamento-Projeto'!G42:G46) -> 0 | E13: =SUM('Orçamento-Projeto'!H42:H46) -> 0 | F13: =SUM('Orçamento-Projeto'!I42:I46) -> 0 | G13: =SUM('Orçamento-Projeto'!J42:J46) -> 0
B15: VALOR TOTAL DO PROJETO | D15: =SUM(D8:D13) -> 0 | E15: =SUM(E8:E13) -> 0 | F15: =SUM(F8:F13) -> 0 | G15: =SUM(G8:G13) -> 0
B16: Participação | E16: =IFERROR(E15/$D$15,"") | F16: =IFERROR(F15/$D$15,"") | G16: =IFERROR(G15/$D$15,"")

Sheet Orçamento-Projeto
B1: ATENÇÃO: Planilha com preenchimento automático. Não é necessário definir manualmente nenhum dos campos apresentados. Caso seja necessário, altere aqui as unidades de medida utilizadas.
D2: DESCRIÇÃO DA DESPESA | H2: FONTE DE RECURSOS
B6: Ações Elegíveis | C6: Despesas Elegíveis | D6: Unidade de Medida | E6: Quantidade | F6: Valor Unitário Médio | G6: Total | H6: Subsídio | I6: Contrapartida Econômica | J6: Contrapartida Financeira
B8: (I) Capacitações, Oficinas, Workshops, Palestras e Seminários | C8: 1.1 Inscrição para capacitações, oficinas, workshops, palestras ou seminários. | D8: Número de inscrições | E8: =SUM('(I) Capacitações'!F8,'(I) Capacitações'!F17,'(I) Capacitações'!F26,'(I) Capacitações'!F35,'(I) Capacitações'!F44,'(I) Capacitações'!F53,'(I) Capacitações'!F62,'(I) Capacitações'!F71) -> 0 | F8: =IFERROR(AVERAGE('(I) Capacitações'!G8,'(I) Capacitações'!G17,'(I) Capacitações'!G26,'(I) Capacitações'!G35,'(I) Capacitações'!G44,'(I) Capacitações'!G53,'(I) Capacitações'!G62,'(I) Capacitações'!G71),"") | G8: =SUM('(I) Capacitações'!H8,'(I) Capacitações'!H17,'(I) Capacitações'!H26,'(I) Capacitações'!H35,'(I) Capacitações'!H44,'(I) Capacitações'!H53,'(I) Capacitações'!H62,'(I) Capacitações'!H71) -> 0 | H8: =SUM('(I) Capacitações'!I8,'(I) Capacitações'!I17,'(I) Capacitações'!I26,'(I) Capacitações'!I35,'(I) Capacitações'!I44,'(I) Capacitações'!I53,'(I) Capacitações'!I62,'(I) Capacitações'!I71) -> 0 | I8: =SUM('(I) Capacitações'!J8,'(I) Capacitações'!J17,'(I) Capacitações'!J26,'(I) Capacitações'!J35,'(I) Capacitações'!J44,'(I) Capacitações'!J53,'(I) Capacitações'!J62,'(I) Capacitações'!J71) -> 0 | J8: =SUM('(I) Capacitações'!K8,'(I) Capacitações'!K17,'(I) Capacitações'!K26,'(I) Capacitações'!K35,'(I) Capacitações'!K44,'(I) Capacitações'!K53,'(I) Capacitações'!K62,'(I) Capacitações'!K71) -> 0
C9: 1.2 Contratação de instrutor/palestrante. | D9: Horas de trabalho | E9: =SUM('(I) Capacitações'!F9,'(I) Capacitações'!F18,'(I) Capacitações'!F27,'(I) Capacitações'!F36,'(I) Capacitações'!F45,'(I) Capacitações'!F54,'(I) Capacitações'!F63,'(I) Capacitações'!F72) -> 0 | F9: =IFERROR(AVERAGE('(I) Capacitações'!G9,'(I) Capacitações'!G18,'(I) Capacitações'!G27,'(I) Capacitações'!G36,'(I) Capacitações'!G45,'(I) Capacitações'!G54,'(I) Capacitações'!G63,'(I) Capacitações'!G72),"") | G9: =SUM('(I) Capacitações'!H9,'(I) Capacitações'!H18,'(I) Capacitações'!H27,'(I) Capacitações'!H36,'(I) Capacitações'!H45,'(I) Capacitações'!H54,'(I) Capacitações'!H63,'(I) Capacitações'!H72) -> 0 | H9: =SUM('(I) Capacitações'!I9,'(I) Capacitações'!I18,'(I) Capacitações'!I27,'(I) Capacitações'!I36,'(I) Capacitações'!I45,'(I) Capacitações'!I54,'(I) Capacitações'!I63,'(I) Capacitações'!I72) -> 0 | I9: =SUM('(I) Capacitações'!J9,'(I) Capacitações'!J18,'(I) Capacitações'!J27,'(I) Capacitações'!J36,'(I) Capacitações'!J45,'(I) Capacitações'!J54,'(I) Capacitações'!J63,'(I) Capacitações'!J72) -> 0 | J9: =SUM('(I) Capacitações'!K9,'(I) Capacitações'!K18,'(I) Capacitações'!K27,'(I) Capacitações'!K36,'(I) Capacitações'!K45,'(I) Capacitações'!K54,'(I) Capacitações'!K63,'(I) Capacitações'!K72) -> 0
C10: 1.3 Preparação e impressão de materiais educativos. | D10: Unidade | E10: =SUM('(I) Capacitações'!F10,'(I) Capacitações'!F19,'(I) Capacitações'!F28,'(I) Capacitações'!F37,'(I) Capacitações'!F46,'(I) Capacitações'!F55,'(I) Capacitações'!F64,'(I) Capacitações'!F73) -> 0 | F10: =IFERROR(AVERAGE('(I) Capacitações'!G10,'(I) Capacitações'!G19,'(I) Capacitações'!G28,'(I) Capacitações'!G37,'(I) Capacitações'!G46,'(I) Capacitações'!G55,'(I) Capacitações'!G64,'(I) Capacitações'!G73),"") | G10: =SUM('(I) Capacitações'!H10,'(I) Capacitações'!H19,'(I) Capacitações'!H28,'(I) Capacitações'!H37,'(I) Capacitações'!H46,'(I) Capacitações'!H55,'(I) Capacitações'!H64,'(I) Capacitações'!H73) -> 0 | H10: =SUM('(I) Capacitações'!I10,'(I) Capacitações'!I19,'(I) Capacitações'!I28,'(I) Capacitações'!I37,'(I) Capacitações'!I46,'(I) Capacitações'!I55,'(I) Capacitações'!I64,'(I) Capacitações'!I73) -> 0 | I10: =SUM('(I) Capacitações'!J10,'(I) Capacitações'!J19,'(I) Capacitações'!J28,'(I) Capacitações'!J37,'(I) Capacitações'!J46,'(I) Capacitações'!J55,'(I) Capacitações'!J64,'(I) Capacitações'!J73) -> 0 | J10: =SUM('(I) Capacitações'!K10,'(I) Capacitações'!K19,'(I) Capacitações'!K28,'(I) Capacitações'!K37,'(I) Capacitações'!K46,'(I) Capacitações'!K55,'(I) Capacitações'!K64,'(I) Capacitações'!K73) -> 0
C11: 1.4 Custos relacionados à divulgação da ação (produção de material promocional, serviços gráficos de reprodução e veiculação em rádio, TV e mídias sociais). | D11: Unidade | E11: =SUM('(I) Capacitações'!F11,'(I) Capacitações'!F20,'(I) Capacitações'!F29,'(I) Capacitações'!F38,'(I) Capacitações'!F47,'(I) Capacitações'!F56,'(I) Capacitações'!F65,'(I) Capacitações'!F74) -> 0 | F11: =IFERROR(AVERAGE('(I) Capacitações'!G11,'(I) Capacitações'!G20,'(I) Capacitações'!G29,'(I) Capacitações'!G38,'(I) Capacitações'!G47,'(I) Capacitações'!G56,'(I) Capacitações'!G65,'(I) Capacitações'!G74),"") | G11: =SUM('(I) Capacitações'!H11,'(I) Capacitações'!H20,'(I) Capacitações'!H29,'(I) Capacitações'!H38,'(I) Capacitações'!H47,'(I) Capacitações'!H56,'(I) Capacitações'!H65,'(I) Capacitações'!H74) -> 0 | H11: =SUM('(I) Capacitações'!I11,'(I) Capacitações'!I20,'(I) Capacitações'!I29,'(I) Capacitações'!I38,'(I) Capacitações'!I47,'(I) Capacitações'!I56,'(I) Capacitações'!I65,'(I) Capacitações'!I74) -> 0 | I11: =SUM('(I) Capacitações'!J11,'(I) Capacitações'!J20,'(I) Capacitações'!J29,'(I) Capacitações'!J38,'(I) Capacitações'!J47,'(I) Capacitações'!J56,'(I) Capacitações'!J65,'(I) Capacitações'!J74) -> 0 | J11: =SUM('(I) Capacitações'!K11,'(I) Capacitações'!K20,'(I) Capacitações'!K29,'(I) Capacitações'!K38,'(I) Capacitações'!K47,'(I) Capacitações'!K56,'(I) Capacitações'!K65,'(I) Capacitações'!K74) -> 0
C12: 1.5 Custos de deslocamento para instrutores/palestrantes e participantes (custo de combustível, locação de veículos, passagens áreas ou rodoviárias, táxis ou transportes alternativos). | D12: Unidade | E12: =SUM('(I) Capacitações'!F12,'(I) Capacitações'!F21,'(I) Capacitações'!F30,'(I) Capacitações'!F39,'(I) Capacitações'!F48,'(I) Capacitações'!F57,'(I) Capacitações'!F66,'(I) Capacitações'!F75) -> 0 | F12: =IFERROR(AVERAGE('(I) Capacitações'!G12,'(I) Capacitações'!G21,'(I) Capacitações'!G30,'(I) Capacitações'!G39,'(I) Capacitações'!G48,'(I) Capacitações'!G57,'(I) Capacitações'!G66,'(I) Capacitações'!G75),"") | G12: =SUM('(I) Capacitações'!H12,'(I) Capacitações'!H21,'(I) Capacitações'!H30,'(I) Capacitações'!H39,'(I) Capacitações'!H48,'(I) Capacitações'!H57,'(I) Capacitações'!H66,'(I) Capacitações'!H75) -> 0 | H12: =SUM('(I) Capacitações'!I12,'(I) Capacitações'!I21,'(I) Capacitações'!I30,'(I) Capacitações'!I39,'(I) Capacitações'!I48,'(I) Capacitações'!I57,'(I) Capacitações'!I66,'(I) Capacitações'!I75) -> 0 | I12: =SUM('(I) Capacitações'!J12,'(I) Capacitações'!J21,'(I) Capacitações'!J30,'(I) Capacitações'!J39,'(I) Capacitações'!J48,'(I) Capacitações'!J57,'(I) Capacitações'!J66,'(I) Capacitações'!J75) -> 0 | J12: =SUM('(I) Capacitações'!K12,'(I) Capacitações'!K21,'(I) Capacitações'!K30,'(I) Capacitações'!K39,'(I) Capacitações'!K48,'(I) Capacitações'!K57,'(I) Capacitações'!K66,'(I) Capacitações'!K75) -> 0
C13: 1.6 Hospedagem e ajuda de custo para instrutores/palestrantes. | D13: Diárias | E13: =SUM('(I) Capacitações'!F13,'(I) Capacitações'!F22,'(I) Capacitações'!F31,'(I) Capacitações'!F40,'(I) Capacitações'!F49,'(I) Capacitações'!F58,'(I) Capacitações'!F67,'(I) Capacitações'!F76) -> 0 | F13: =IFERROR(AVERAGE('(I) Capacitações'!G13,'(I) Capacitações'!G22,'(I) Capacitações'!G31,'(I) Capacitações'!G40,'(I) Capacitações'!G49,'(I) Capacitações'!G58,'(I) Capacitações'!G67,'(I) Capacitações'!G76),"") | G13: =SUM('(I) Capacitações'!H13,'(I) Capacitações'!H22,'(I) Capacitações'!H31,'(I) Capacitações'!H40,'(I) Capacitações'!H49,'(I) Capacitações'!H58,'(I) Capacitações'!H67,'(I) Capacitações'!H76) -> 0 | H13: =SUM('(I) Capacitações'!I13,'(I) Capacitações'!I22,'(I) Capacitações'!I31,'(I) Capacitações'!I40,'(I) Capacitações'!I49,'(I) Capacitações'!I58,'(I) Capacitações'!I67,'(I) Capacitações'!I76) -> 0 | I13: =SUM('(I) Capacitações'!J13,'(I) Capacitações'!J22,'(I) Capacitações'!J31,'(I) Capacitações'!J40,'(I) Capacitações'!J49,'(I) Capacitações'!J58,'(I) Capacitações'!J67,'(I) Capacitações'!J76) -> 0 | J13: =SUM('(I) Capacitações'!K13,'(I) Capacitações'!K22,'(I) Capacitações'!K31,'(I) Capacitações'!K40,'(I) Capacitações'!K49,'(I) Capacitações'!K58,'(I) Capacitações'!K67,'(I) Capacitações'!K76) -> 0
C14: 1.7 Locação de espaço. | D14: Diárias | E14: =SUM('(I) Capacitações'!F14,'(I) Capacitações'!F23,'(I) Capacitações'!F32,'(I) Capacitações'!F41,'(I) Capacitações'!F50,'(I) Capacitações'!F59,'(I) Capacitações'!F68,'(I) Capacitações'!F77) -> 0 | F14: =IFERROR(AVERAGE('(I) Capacitações'!G14,'(I) Capacitações'!G23,'(I) Capacitações'!G32,'(I) Capacitações'!G41,'(I) Capacitações'!G50,'(I) Capacitações'!G59,'(I) Capacitações'!G68,'(I) Capacitações'!G77),"") | G14: =SUM('(I) Capacitações'!H14,'(I) Capacitações'!H23,'(I) Capacitações'!H32,'(I) Capacitações'!H41,'(I) Capacitações'!H50,'(I) Capacitações'!H59,'(I) Capacitações'!H68,'(I) Capacitações'!H77) -> 0 | H14: =SUM('(I) Capacitações'!I14,'(I) Capacitações'!I23,'(I) Capacitações'!I32,'(I) Capacitações'!I41,'(I) Capacitações'!I50,'(I) Capacitações'!I59,'(I) Capacitações'!I68,'(I) Capacitações'!I77) -> 0 | I14: =SUM('(I) Capacitações'!J14,'(I) Capacitações'!J23,'(I) Capacitações'!J32,'(I) Capacitações'!J41,'(I) Capacitações'!J50,'(I) Capacitações'!J59,'(I) Capacitações'!J68,'(I) Capacitações'!J77) -> 0 | J14: =SUM('(I) Capacitações'!K14,'(I) Capacitações'!K23,'(I) Capacitações'!K32,'(I) Capacitações'!K41,'(I) Capacitações'!K50,'(I) Capacitações'!K59,'(I) Capacitações'!K68,'(I) Capacitações'!K77) -> 0
C15: 1.8 Locação de equipamentos audiovisuais. | D15: Diárias | E15: =SUM('(I) Capacitações'!F15,'(I) Capacitações'!F24,'(I) Capacitações'!F33,'(I) Capacitações'!F42,'(I) Capacitações'!F51,'(I) Capacitações'!F60,'(I) Capacitações'!F69,'(I) Capacitações'!F78) -> 0 | F15: =IFERROR(AVERAGE('(I) Capacitações'!G15,'(I) Capacitações'!G24,'(I) Capacitações'!G33,'(I) Capacitações'!G42,'(I) Capacitações'!G51,'(I) Capacitações'!G60,'(I) Capacitações'!G69,'(I) Capacitações'!G78),"") | G15: =SUM('(I) Capacitações'!H15,'(I) Capacitações'!H24,'(I) Capacitações'!H33,'(I) Capacitações'!H42,'(I) Capacitações'!H51,'(I) Capacitações'!H60,'(I) Capacitações'!H69,'(I) Capacitações'!H78) -> 0 | H15: =SUM('(I) Capacitações'!I15,'(I) Capacitações'!I24,'(I) Capacitações'!I33,'(I) Capacitações'!I42,'(I) Capacitações'!I51,'(I) Capacitações'!I60,'(I) Capacitações'!I69,'(I) Capacitações'!I78) -> 0 | I15: =SUM('(I) Capacitações'!J15,'(I) Capacitações'!J24,'(I) Capacitações'!J33,'(I) Capacitações'!J42,'(I) Capacitações'!J51,'(I) Capacitações'!J60,'(I) Capacitações'!J69,'(I) Capacitações'!J78) -> 0 | J15: =SUM('(I) Capacitações'!K15,'(I) Capacitações'!K24,'(I) Capacitações'!K33,'(I) Capacitações'!K42,'(I) Capacitações'!K51,'(I) Capacitações'!K60,'(I) Capacitações'!K69,'(I) Capacitações'!K78) -> 0
